BEGIN:VCALENDAR
VERSION:2.0
PRODID:-// - ECPv6.15.17.1//NONSGML v1.0//EN
CALSCALE:GREGORIAN
METHOD:PUBLISH
X-ORIGINAL-URL:https://sg-badduerrenberg.de
X-WR-CALDESC:Veranstaltungen für 
REFRESH-INTERVAL;VALUE=DURATION:PT1H
X-Robots-Tag:noindex
X-PUBLISHED-TTL:PT1H
BEGIN:VTIMEZONE
TZID:Europe/Berlin
BEGIN:DAYLIGHT
TZOFFSETFROM:+0100
TZOFFSETTO:+0200
TZNAME:CEST
DTSTART:20250330T010000
END:DAYLIGHT
BEGIN:STANDARD
TZOFFSETFROM:+0200
TZOFFSETTO:+0100
TZNAME:CET
DTSTART:20251026T010000
END:STANDARD
BEGIN:DAYLIGHT
TZOFFSETFROM:+0100
TZOFFSETTO:+0200
TZNAME:CEST
DTSTART:20260329T010000
END:DAYLIGHT
BEGIN:STANDARD
TZOFFSETFROM:+0200
TZOFFSETTO:+0100
TZNAME:CET
DTSTART:20261025T010000
END:STANDARD
BEGIN:DAYLIGHT
TZOFFSETFROM:+0100
TZOFFSETTO:+0200
TZNAME:CEST
DTSTART:20270328T010000
END:DAYLIGHT
BEGIN:STANDARD
TZOFFSETFROM:+0200
TZOFFSETTO:+0100
TZNAME:CET
DTSTART:20271031T010000
END:STANDARD
END:VTIMEZONE
BEGIN:VEVENT
DTSTART;TZID=Europe/Berlin:20260701T163000
DTEND;TZID=Europe/Berlin:20260701T180000
DTSTAMP:20260424T223716
CREATED:20260301T183826Z
LAST-MODIFIED:20260301T183826Z
UID:10003228-1782923400-1782928800@sg-badduerrenberg.de
SUMMARY:Inlinetraining
DESCRIPTION:
URL:https://sg-badduerrenberg.de/event/inlinetraining/2026-07-01/
LOCATION:Sportplatz Goddula/Vesta\, Bäckerweg 2\, Bad Dürrenberg\, 06231
CATEGORIES:Inliner
ORGANIZER;CN="Sportgemeinschaft Bad D%C3%BCrrenberg e.V.":MAILTO:mail@sg-badduerrenberg.de
END:VEVENT
BEGIN:VEVENT
DTSTART;TZID=Europe/Berlin:20260702T160000
DTEND;TZID=Europe/Berlin:20260702T173000
DTSTAMP:20260424T223716
CREATED:20260301T184857Z
LAST-MODIFIED:20260301T184857Z
UID:10003260-1783008000-1783013400@sg-badduerrenberg.de
SUMMARY:TSV Leuna e.V.
DESCRIPTION:
URL:https://sg-badduerrenberg.de/event/tsv-leuna-e-v/2026-07-02/
LOCATION:Sportplatz Goddula/Vesta\, Bäckerweg 2\, Bad Dürrenberg\, 06231
CATEGORIES:Skiroller
ORGANIZER;CN="TSV Leuna e.V.":MAILTO:vorstand@tsv-leuna.net
END:VEVENT
BEGIN:VEVENT
DTSTART;TZID=Europe/Berlin:20260703T160000
DTEND;TZID=Europe/Berlin:20260703T173000
DTSTAMP:20260424T223716
CREATED:20260301T185303Z
LAST-MODIFIED:20260301T185303Z
UID:10003326-1783094400-1783099800@sg-badduerrenberg.de
SUMMARY:TSV Leuna e.V.
DESCRIPTION:
URL:https://sg-badduerrenberg.de/event/tsv-leuna-e-v-2-2/2026-07-03/
LOCATION:Sportplatz Goddula/Vesta\, Bäckerweg 2\, Bad Dürrenberg\, 06231
CATEGORIES:Skiroller
ORGANIZER;CN="TSV Leuna e.V.":MAILTO:vorstand@tsv-leuna.net
END:VEVENT
BEGIN:VEVENT
DTSTART;TZID=Europe/Berlin:20260708T163000
DTEND;TZID=Europe/Berlin:20260708T180000
DTSTAMP:20260424T223716
CREATED:20260301T183826Z
LAST-MODIFIED:20260301T183826Z
UID:10003229-1783528200-1783533600@sg-badduerrenberg.de
SUMMARY:Inlinetraining
DESCRIPTION:
URL:https://sg-badduerrenberg.de/event/inlinetraining/2026-07-08/
LOCATION:Sportplatz Goddula/Vesta\, Bäckerweg 2\, Bad Dürrenberg\, 06231
CATEGORIES:Inliner
ORGANIZER;CN="Sportgemeinschaft Bad D%C3%BCrrenberg e.V.":MAILTO:mail@sg-badduerrenberg.de
END:VEVENT
BEGIN:VEVENT
DTSTART;TZID=Europe/Berlin:20260709T160000
DTEND;TZID=Europe/Berlin:20260709T173000
DTSTAMP:20260424T223716
CREATED:20260301T184857Z
LAST-MODIFIED:20260301T184857Z
UID:10003261-1783612800-1783618200@sg-badduerrenberg.de
SUMMARY:TSV Leuna e.V.
DESCRIPTION:
URL:https://sg-badduerrenberg.de/event/tsv-leuna-e-v/2026-07-09/
LOCATION:Sportplatz Goddula/Vesta\, Bäckerweg 2\, Bad Dürrenberg\, 06231
CATEGORIES:Skiroller
ORGANIZER;CN="TSV Leuna e.V.":MAILTO:vorstand@tsv-leuna.net
END:VEVENT
BEGIN:VEVENT
DTSTART;TZID=Europe/Berlin:20260715T163000
DTEND;TZID=Europe/Berlin:20260715T180000
DTSTAMP:20260424T223716
CREATED:20260301T183826Z
LAST-MODIFIED:20260301T183826Z
UID:10003230-1784133000-1784138400@sg-badduerrenberg.de
SUMMARY:Inlinetraining
DESCRIPTION:
URL:https://sg-badduerrenberg.de/event/inlinetraining/2026-07-15/
LOCATION:Sportplatz Goddula/Vesta\, Bäckerweg 2\, Bad Dürrenberg\, 06231
CATEGORIES:Inliner
ORGANIZER;CN="Sportgemeinschaft Bad D%C3%BCrrenberg e.V.":MAILTO:mail@sg-badduerrenberg.de
END:VEVENT
BEGIN:VEVENT
DTSTART;TZID=Europe/Berlin:20260716T160000
DTEND;TZID=Europe/Berlin:20260716T173000
DTSTAMP:20260424T223716
CREATED:20260301T184857Z
LAST-MODIFIED:20260301T184857Z
UID:10003262-1784217600-1784223000@sg-badduerrenberg.de
SUMMARY:TSV Leuna e.V.
DESCRIPTION:
URL:https://sg-badduerrenberg.de/event/tsv-leuna-e-v/2026-07-16/
LOCATION:Sportplatz Goddula/Vesta\, Bäckerweg 2\, Bad Dürrenberg\, 06231
CATEGORIES:Skiroller
ORGANIZER;CN="TSV Leuna e.V.":MAILTO:vorstand@tsv-leuna.net
END:VEVENT
BEGIN:VEVENT
DTSTART;TZID=Europe/Berlin:20260722T163000
DTEND;TZID=Europe/Berlin:20260722T180000
DTSTAMP:20260424T223716
CREATED:20260301T183826Z
LAST-MODIFIED:20260301T183826Z
UID:10003231-1784737800-1784743200@sg-badduerrenberg.de
SUMMARY:Inlinetraining
DESCRIPTION:
URL:https://sg-badduerrenberg.de/event/inlinetraining/2026-07-22/
LOCATION:Sportplatz Goddula/Vesta\, Bäckerweg 2\, Bad Dürrenberg\, 06231
CATEGORIES:Inliner
ORGANIZER;CN="Sportgemeinschaft Bad D%C3%BCrrenberg e.V.":MAILTO:mail@sg-badduerrenberg.de
END:VEVENT
BEGIN:VEVENT
DTSTART;TZID=Europe/Berlin:20260723T160000
DTEND;TZID=Europe/Berlin:20260723T173000
DTSTAMP:20260424T223716
CREATED:20260301T184857Z
LAST-MODIFIED:20260301T184857Z
UID:10003263-1784822400-1784827800@sg-badduerrenberg.de
SUMMARY:TSV Leuna e.V.
DESCRIPTION:
URL:https://sg-badduerrenberg.de/event/tsv-leuna-e-v/2026-07-23/
LOCATION:Sportplatz Goddula/Vesta\, Bäckerweg 2\, Bad Dürrenberg\, 06231
CATEGORIES:Skiroller
ORGANIZER;CN="TSV Leuna e.V.":MAILTO:vorstand@tsv-leuna.net
END:VEVENT
BEGIN:VEVENT
DTSTART;TZID=Europe/Berlin:20260729T163000
DTEND;TZID=Europe/Berlin:20260729T180000
DTSTAMP:20260424T223716
CREATED:20260301T183826Z
LAST-MODIFIED:20260301T183826Z
UID:10003232-1785342600-1785348000@sg-badduerrenberg.de
SUMMARY:Inlinetraining
DESCRIPTION:
URL:https://sg-badduerrenberg.de/event/inlinetraining/2026-07-29/
LOCATION:Sportplatz Goddula/Vesta\, Bäckerweg 2\, Bad Dürrenberg\, 06231
CATEGORIES:Inliner
ORGANIZER;CN="Sportgemeinschaft Bad D%C3%BCrrenberg e.V.":MAILTO:mail@sg-badduerrenberg.de
END:VEVENT
BEGIN:VEVENT
DTSTART;TZID=Europe/Berlin:20260730T160000
DTEND;TZID=Europe/Berlin:20260730T173000
DTSTAMP:20260424T223716
CREATED:20260301T184857Z
LAST-MODIFIED:20260301T184857Z
UID:10003264-1785427200-1785432600@sg-badduerrenberg.de
SUMMARY:TSV Leuna e.V.
DESCRIPTION:
URL:https://sg-badduerrenberg.de/event/tsv-leuna-e-v/2026-07-30/
LOCATION:Sportplatz Goddula/Vesta\, Bäckerweg 2\, Bad Dürrenberg\, 06231
CATEGORIES:Skiroller
ORGANIZER;CN="TSV Leuna e.V.":MAILTO:vorstand@tsv-leuna.net
END:VEVENT
END:VCALENDAR