BEGIN:VCALENDAR
VERSION:2.0
PRODID:-// - ECPv6.15.17.1//NONSGML v1.0//EN
CALSCALE:GREGORIAN
METHOD:PUBLISH
X-ORIGINAL-URL:https://sg-badduerrenberg.de
X-WR-CALDESC:Veranstaltungen für 
REFRESH-INTERVAL;VALUE=DURATION:PT1H
X-Robots-Tag:noindex
X-PUBLISHED-TTL:PT1H
BEGIN:VTIMEZONE
TZID:Europe/Berlin
BEGIN:DAYLIGHT
TZOFFSETFROM:+0100
TZOFFSETTO:+0200
TZNAME:CEST
DTSTART:20250330T010000
END:DAYLIGHT
BEGIN:STANDARD
TZOFFSETFROM:+0200
TZOFFSETTO:+0100
TZNAME:CET
DTSTART:20251026T010000
END:STANDARD
BEGIN:DAYLIGHT
TZOFFSETFROM:+0100
TZOFFSETTO:+0200
TZNAME:CEST
DTSTART:20260329T010000
END:DAYLIGHT
BEGIN:STANDARD
TZOFFSETFROM:+0200
TZOFFSETTO:+0100
TZNAME:CET
DTSTART:20261025T010000
END:STANDARD
BEGIN:DAYLIGHT
TZOFFSETFROM:+0100
TZOFFSETTO:+0200
TZNAME:CEST
DTSTART:20270328T010000
END:DAYLIGHT
BEGIN:STANDARD
TZOFFSETFROM:+0200
TZOFFSETTO:+0100
TZNAME:CET
DTSTART:20271031T010000
END:STANDARD
END:VTIMEZONE
BEGIN:VEVENT
DTSTART;TZID=Europe/Berlin:20260902T163000
DTEND;TZID=Europe/Berlin:20260902T180000
DTSTAMP:20260425T021554
CREATED:20260301T183826Z
LAST-MODIFIED:20260301T183826Z
UID:10003237-1788366600-1788372000@sg-badduerrenberg.de
SUMMARY:Inlinetraining
DESCRIPTION:
URL:https://sg-badduerrenberg.de/event/inlinetraining/2026-09-02/
LOCATION:Sportplatz Goddula/Vesta\, Bäckerweg 2\, Bad Dürrenberg\, 06231
CATEGORIES:Inliner
ORGANIZER;CN="Sportgemeinschaft Bad D%C3%BCrrenberg e.V.":MAILTO:mail@sg-badduerrenberg.de
END:VEVENT
BEGIN:VEVENT
DTSTART;TZID=Europe/Berlin:20260903T160000
DTEND;TZID=Europe/Berlin:20260903T173000
DTSTAMP:20260425T021554
CREATED:20260301T184857Z
LAST-MODIFIED:20260301T184857Z
UID:10003269-1788451200-1788456600@sg-badduerrenberg.de
SUMMARY:TSV Leuna e.V.
DESCRIPTION:
URL:https://sg-badduerrenberg.de/event/tsv-leuna-e-v/2026-09-03/
LOCATION:Sportplatz Goddula/Vesta\, Bäckerweg 2\, Bad Dürrenberg\, 06231
CATEGORIES:Skiroller
ORGANIZER;CN="TSV Leuna e.V.":MAILTO:vorstand@tsv-leuna.net
END:VEVENT
BEGIN:VEVENT
DTSTART;TZID=Europe/Berlin:20260909T163000
DTEND;TZID=Europe/Berlin:20260909T180000
DTSTAMP:20260425T021554
CREATED:20260301T183826Z
LAST-MODIFIED:20260301T183826Z
UID:10003238-1788971400-1788976800@sg-badduerrenberg.de
SUMMARY:Inlinetraining
DESCRIPTION:
URL:https://sg-badduerrenberg.de/event/inlinetraining/2026-09-09/
LOCATION:Sportplatz Goddula/Vesta\, Bäckerweg 2\, Bad Dürrenberg\, 06231
CATEGORIES:Inliner
ORGANIZER;CN="Sportgemeinschaft Bad D%C3%BCrrenberg e.V.":MAILTO:mail@sg-badduerrenberg.de
END:VEVENT
BEGIN:VEVENT
DTSTART;TZID=Europe/Berlin:20260910T160000
DTEND;TZID=Europe/Berlin:20260910T173000
DTSTAMP:20260425T021554
CREATED:20260301T184857Z
LAST-MODIFIED:20260301T184857Z
UID:10003270-1789056000-1789061400@sg-badduerrenberg.de
SUMMARY:TSV Leuna e.V.
DESCRIPTION:
URL:https://sg-badduerrenberg.de/event/tsv-leuna-e-v/2026-09-10/
LOCATION:Sportplatz Goddula/Vesta\, Bäckerweg 2\, Bad Dürrenberg\, 06231
CATEGORIES:Skiroller
ORGANIZER;CN="TSV Leuna e.V.":MAILTO:vorstand@tsv-leuna.net
END:VEVENT
BEGIN:VEVENT
DTSTART;TZID=Europe/Berlin:20260916T163000
DTEND;TZID=Europe/Berlin:20260916T180000
DTSTAMP:20260425T021554
CREATED:20260301T183826Z
LAST-MODIFIED:20260301T183826Z
UID:10003239-1789576200-1789581600@sg-badduerrenberg.de
SUMMARY:Inlinetraining
DESCRIPTION:
URL:https://sg-badduerrenberg.de/event/inlinetraining/2026-09-16/
LOCATION:Sportplatz Goddula/Vesta\, Bäckerweg 2\, Bad Dürrenberg\, 06231
CATEGORIES:Inliner
ORGANIZER;CN="Sportgemeinschaft Bad D%C3%BCrrenberg e.V.":MAILTO:mail@sg-badduerrenberg.de
END:VEVENT
BEGIN:VEVENT
DTSTART;TZID=Europe/Berlin:20260917T160000
DTEND;TZID=Europe/Berlin:20260917T173000
DTSTAMP:20260425T021554
CREATED:20260301T184857Z
LAST-MODIFIED:20260301T184857Z
UID:10003271-1789660800-1789666200@sg-badduerrenberg.de
SUMMARY:TSV Leuna e.V.
DESCRIPTION:
URL:https://sg-badduerrenberg.de/event/tsv-leuna-e-v/2026-09-17/
LOCATION:Sportplatz Goddula/Vesta\, Bäckerweg 2\, Bad Dürrenberg\, 06231
CATEGORIES:Skiroller
ORGANIZER;CN="TSV Leuna e.V.":MAILTO:vorstand@tsv-leuna.net
END:VEVENT
BEGIN:VEVENT
DTSTART;VALUE=DATE:20260918
DTEND;VALUE=DATE:20260921
DTSTAMP:20260425T021554
CREATED:20260301T191621Z
LAST-MODIFIED:20260301T191621Z
UID:10003362-1789689600-1789948799@sg-badduerrenberg.de
SUMMARY:Brunnenfest
DESCRIPTION:Wir sind wieder mit dabei.
URL:https://sg-badduerrenberg.de/event/brunnenfest/
LOCATION:Kurpark Bad Dürrenberg\, Promenade 11-1\, Bad Dürrenberg\, 06231\, Deutschland
CATEGORIES:Allgemein,Freizeit
ORGANIZER;CN="Stadt Bad D%C3%BCrrenberg":MAILTO:stadt@badduerrenberg.de
END:VEVENT
BEGIN:VEVENT
DTSTART;TZID=Europe/Berlin:20260923T163000
DTEND;TZID=Europe/Berlin:20260923T180000
DTSTAMP:20260425T021554
CREATED:20260301T183826Z
LAST-MODIFIED:20260301T183826Z
UID:10003240-1790181000-1790186400@sg-badduerrenberg.de
SUMMARY:Inlinetraining
DESCRIPTION:
URL:https://sg-badduerrenberg.de/event/inlinetraining/2026-09-23/
LOCATION:Sportplatz Goddula/Vesta\, Bäckerweg 2\, Bad Dürrenberg\, 06231
CATEGORIES:Inliner
ORGANIZER;CN="Sportgemeinschaft Bad D%C3%BCrrenberg e.V.":MAILTO:mail@sg-badduerrenberg.de
END:VEVENT
BEGIN:VEVENT
DTSTART;TZID=Europe/Berlin:20260924T160000
DTEND;TZID=Europe/Berlin:20260924T173000
DTSTAMP:20260425T021554
CREATED:20260301T184857Z
LAST-MODIFIED:20260301T184857Z
UID:10003272-1790265600-1790271000@sg-badduerrenberg.de
SUMMARY:TSV Leuna e.V.
DESCRIPTION:
URL:https://sg-badduerrenberg.de/event/tsv-leuna-e-v/2026-09-24/
LOCATION:Sportplatz Goddula/Vesta\, Bäckerweg 2\, Bad Dürrenberg\, 06231
CATEGORIES:Skiroller
ORGANIZER;CN="TSV Leuna e.V.":MAILTO:vorstand@tsv-leuna.net
END:VEVENT
BEGIN:VEVENT
DTSTART;TZID=Europe/Berlin:20260930T163000
DTEND;TZID=Europe/Berlin:20260930T180000
DTSTAMP:20260425T021554
CREATED:20260301T183826Z
LAST-MODIFIED:20260301T183826Z
UID:10003241-1790785800-1790791200@sg-badduerrenberg.de
SUMMARY:Inlinetraining
DESCRIPTION:
URL:https://sg-badduerrenberg.de/event/inlinetraining/2026-09-30/
LOCATION:Sportplatz Goddula/Vesta\, Bäckerweg 2\, Bad Dürrenberg\, 06231
CATEGORIES:Inliner
ORGANIZER;CN="Sportgemeinschaft Bad D%C3%BCrrenberg e.V.":MAILTO:mail@sg-badduerrenberg.de
END:VEVENT
END:VCALENDAR