BEGIN:VCALENDAR
VERSION:2.0
PRODID:-// - ECPv6.15.17.1//NONSGML v1.0//EN
CALSCALE:GREGORIAN
METHOD:PUBLISH
X-ORIGINAL-URL:https://sg-badduerrenberg.de
X-WR-CALDESC:Veranstaltungen für 
REFRESH-INTERVAL;VALUE=DURATION:PT1H
X-Robots-Tag:noindex
X-PUBLISHED-TTL:PT1H
BEGIN:VTIMEZONE
TZID:Europe/Berlin
BEGIN:DAYLIGHT
TZOFFSETFROM:+0100
TZOFFSETTO:+0200
TZNAME:CEST
DTSTART:20250330T010000
END:DAYLIGHT
BEGIN:STANDARD
TZOFFSETFROM:+0200
TZOFFSETTO:+0100
TZNAME:CET
DTSTART:20251026T010000
END:STANDARD
BEGIN:DAYLIGHT
TZOFFSETFROM:+0100
TZOFFSETTO:+0200
TZNAME:CEST
DTSTART:20260329T010000
END:DAYLIGHT
BEGIN:STANDARD
TZOFFSETFROM:+0200
TZOFFSETTO:+0100
TZNAME:CET
DTSTART:20261025T010000
END:STANDARD
BEGIN:DAYLIGHT
TZOFFSETFROM:+0100
TZOFFSETTO:+0200
TZNAME:CEST
DTSTART:20270328T010000
END:DAYLIGHT
BEGIN:STANDARD
TZOFFSETFROM:+0200
TZOFFSETTO:+0100
TZNAME:CET
DTSTART:20271031T010000
END:STANDARD
END:VTIMEZONE
BEGIN:VEVENT
DTSTART;TZID=Europe/Berlin:20260424T160000
DTEND;TZID=Europe/Berlin:20260424T173000
DTSTAMP:20260424T170603
CREATED:20260301T185303Z
LAST-MODIFIED:20260301T185303Z
UID:10003316-1777046400-1777051800@sg-badduerrenberg.de
SUMMARY:TSV Leuna e.V.
DESCRIPTION:
URL:https://sg-badduerrenberg.de/event/tsv-leuna-e-v-2-2/2026-04-24/
LOCATION:Sportplatz Goddula/Vesta\, Bäckerweg 2\, Bad Dürrenberg\, 06231
CATEGORIES:Skiroller
ORGANIZER;CN="TSV Leuna e.V.":MAILTO:vorstand@tsv-leuna.net
END:VEVENT
BEGIN:VEVENT
DTSTART;TZID=Europe/Berlin:20260429T163000
DTEND;TZID=Europe/Berlin:20260429T180000
DTSTAMP:20260424T170603
CREATED:20260301T183826Z
LAST-MODIFIED:20260301T183826Z
UID:10003219-1777480200-1777485600@sg-badduerrenberg.de
SUMMARY:Inlinetraining
DESCRIPTION:
URL:https://sg-badduerrenberg.de/event/inlinetraining/2026-04-29/
LOCATION:Sportplatz Goddula/Vesta\, Bäckerweg 2\, Bad Dürrenberg\, 06231
CATEGORIES:Inliner
ORGANIZER;CN="Sportgemeinschaft Bad D%C3%BCrrenberg e.V.":MAILTO:mail@sg-badduerrenberg.de
END:VEVENT
BEGIN:VEVENT
DTSTART;TZID=Europe/Berlin:20260430T160000
DTEND;TZID=Europe/Berlin:20260430T173000
DTSTAMP:20260424T170603
CREATED:20260301T184857Z
LAST-MODIFIED:20260301T184857Z
UID:10003251-1777564800-1777570200@sg-badduerrenberg.de
SUMMARY:TSV Leuna e.V.
DESCRIPTION:
URL:https://sg-badduerrenberg.de/event/tsv-leuna-e-v/2026-04-30/
LOCATION:Sportplatz Goddula/Vesta\, Bäckerweg 2\, Bad Dürrenberg\, 06231
CATEGORIES:Skiroller
ORGANIZER;CN="TSV Leuna e.V.":MAILTO:vorstand@tsv-leuna.net
END:VEVENT
END:VCALENDAR